BEGIN:VCALENDAR
VERSION:2.0
PRODID:-//Elegba Folklore Society - ECPv6.15.20//NONSGML v1.0//EN
CALSCALE:GREGORIAN
METHOD:PUBLISH
X-WR-CALNAME:Elegba Folklore Society
X-ORIGINAL-URL:https://efsinc.org
X-WR-CALDESC:Events for Elegba Folklore Society
REFRESH-INTERVAL;VALUE=DURATION:PT1H
X-Robots-Tag:noindex
X-PUBLISHED-TTL:PT1H
BEGIN:VTIMEZONE
TZID:America/New_York
BEGIN:DAYLIGHT
TZOFFSETFROM:-0500
TZOFFSETTO:-0400
TZNAME:EDT
DTSTART:20210314T070000
END:DAYLIGHT
BEGIN:STANDARD
TZOFFSETFROM:-0400
TZOFFSETTO:-0500
TZNAME:EST
DTSTART:20211107T060000
END:STANDARD
BEGIN:DAYLIGHT
TZOFFSETFROM:-0500
TZOFFSETTO:-0400
TZNAME:EDT
DTSTART:20220313T070000
END:DAYLIGHT
BEGIN:STANDARD
TZOFFSETFROM:-0400
TZOFFSETTO:-0500
TZNAME:EST
DTSTART:20221106T060000
END:STANDARD
BEGIN:DAYLIGHT
TZOFFSETFROM:-0500
TZOFFSETTO:-0400
TZNAME:EDT
DTSTART:20230312T070000
END:DAYLIGHT
BEGIN:STANDARD
TZOFFSETFROM:-0400
TZOFFSETTO:-0500
TZNAME:EST
DTSTART:20231105T060000
END:STANDARD
END:VTIMEZONE
BEGIN:VEVENT
DTSTART;TZID=America/New_York:20220216T190000
DTEND;TZID=America/New_York:20220216T200000
DTSTAMP:20260425T170322
CREATED:20220208T034907Z
LAST-MODIFIED:20220208T035921Z
UID:3372-1645038000-1645041600@efsinc.org
SUMMARY:2022 Black Book Expo\, Auth Chats – J. Plunky Branch
DESCRIPTION:The Black Book Expo\, A Conscious Literary Festival will showcase a vast display of\nliterature featuring topics including black history\, social justice\, science\, health\, African\nDiasporic culture\, African spirituality\, personal development\, novels and children’s books.\nAuthors will make presentations and sign their books. Live streaming will occur from the\nin-person event as well via the Society’s Facebook page. Books will also be available on\nthe Society’s website . \nWednesday\, February 16\, 7p \nJ. Plunky Branch \nSaxophonist J. Plunky Branch is an experienced performer\, songwriter\, producer and musicologist.  He has released 30 albums and composed over 450 songs.  Juju Jazz Poetics is Plunky’s first volume of poetry.  About it he says\, “I have taken to blowing my own horn\, and maybe I have stetted the boundaries of ego and versatility by assuming to call myself a ‘poet.’  I will let you be the judge.”  His autobiography\, Plunky: Juju Jazz Funk & Oneness – A Musical Memoir was published in 2015\, and he has produced three documentary films\, including Under the Radar – A Survey of Afro-Cuban Music shot in Cuba in 2001.  In 2018\, J. Plunky Branch received the prestigious “50 For 50 Award” from the Virginia Commission for the Arts as one of the 50 outstanding arts persons in Virginia of the last 50 years.  In 2015 he was selected as one of the Strong Men & Women in Virginia History by the Library of Virginia.  
URL:https://efsinc.org/event/3372/
LOCATION:Facebook Live
ATTACH;FMTTYPE=image/png:https://efsinc.org/wp-content/uploads/2022/02/2021-BBE-Interviews-2-2.png
ORGANIZER;CN="Elegba Folklore Society":MAILTO:story1@efsinc.org
END:VEVENT
END:VCALENDAR