BEGIN:VCALENDAR
VERSION:2.0
PRODID:-//Elegba Folklore Society - ECPv6.15.20//NONSGML v1.0//EN
CALSCALE:GREGORIAN
METHOD:PUBLISH
X-ORIGINAL-URL:https://efsinc.org
X-WR-CALDESC:Events for Elegba Folklore Society
REFRESH-INTERVAL;VALUE=DURATION:PT1H
X-Robots-Tag:noindex
X-PUBLISHED-TTL:PT1H
BEGIN:VTIMEZONE
TZID:America/New_York
BEGIN:DAYLIGHT
TZOFFSETFROM:-0500
TZOFFSETTO:-0400
TZNAME:EDT
DTSTART:20210314T070000
END:DAYLIGHT
BEGIN:STANDARD
TZOFFSETFROM:-0400
TZOFFSETTO:-0500
TZNAME:EST
DTSTART:20211107T060000
END:STANDARD
BEGIN:DAYLIGHT
TZOFFSETFROM:-0500
TZOFFSETTO:-0400
TZNAME:EDT
DTSTART:20220313T070000
END:DAYLIGHT
BEGIN:STANDARD
TZOFFSETFROM:-0400
TZOFFSETTO:-0500
TZNAME:EST
DTSTART:20221106T060000
END:STANDARD
BEGIN:DAYLIGHT
TZOFFSETFROM:-0500
TZOFFSETTO:-0400
TZNAME:EDT
DTSTART:20230312T070000
END:DAYLIGHT
BEGIN:STANDARD
TZOFFSETFROM:-0400
TZOFFSETTO:-0500
TZNAME:EST
DTSTART:20231105T060000
END:STANDARD
END:VTIMEZONE
BEGIN:VEVENT
DTSTART;TZID=America/New_York:20220226T190000
DTEND;TZID=America/New_York:20220227T190000
DTSTAMP:20260425T170417
CREATED:20220208T023508Z
LAST-MODIFIED:20220208T040115Z
UID:3342-1645902000-1645988400@efsinc.org
SUMMARY:2022 The Black Book Expo\, A Conscious Literary Festival
DESCRIPTION:THE BLACK BOOK EXPO\, A CONSCIOUS LITERARY FESTIVAL February 26\, 3p – 7p\, and Sunday\, February 27\, 3p – 7p\n \n  \n\n\n\n \n\n\n\n\n\nElegba Folklore Society will present the 2022 Black Book Expo\, A Conscious Literary Festival February 15 – 27\, 2022.  This hybrid event opens with Author Chats streaming on Elegba Folklore Society’s Facebook page on Tuesdays and Wednesdays at 7p\, February 15\, 16 and 22.  Then on Saturday  and Sunday\, February 26 – 27\, 3p – 7p\, the 2022 Black Book Expo\, A Conscious Literary \nFestival will continue in Rhythm Hall at the Dominion Energy Center\, 600 E Grace St.  The in-person aspect of the festival invites the public to browse and buy books\, experience live entertainment and meet independent authors. \n\n\n\nThe Black Book Expo\, A Conscious Literary Festival will showcase a vast display of literature featuring topics including black history\, social justice\, science\, health\, African Diasporic culture\, African spirituality\, personal development\, novels and children’s books. \n\n\n\nAuthors will make presentations and sign their books.  Live streaming will occur from the in-person event as well via the Society’s Facebook page.  Books will also be available on the Society’s website. \n\n\n\nCovid protocols include required face coverings\, frequent hand sanitizing and social distancing. \n\n\n\nThe public may follow Elegba Folklore Society on Facebook and Instagram for updates and to enjoy the chats with selected authors.  They may also contact the Society at 804.644.3900\, mailto:story1@efsinc.org and find more details at www.efsinc.org. \n\n\n\nThis program is made possible\, in part\, by funding from the National Endowment for the Humanities’ Sustaining the Humanities through the American Rescue Plan (SHARP) initiative\, the Richmond \nMemorial Health Foundation and the City of Richmond. \n\n\n\nThe Black Book Expo\, A Conscious Literary Conversation: LIVE CHAT SCHEDULE ***Streaming live Tuesdays and Wednesdays at 7PM***\n \n\n\n\n02/15 • Stephanie Rose Bird Stephanie Rose Bird is a visual artist and an author.  Her \nnewest book is The Healing Power of African American Spirituality: A Celebration of Ancestor Worship\, Herbs and Hoodoo\, Ritual and Conjure.  It is a fabulous resource for anyone who wants to understand African American spirituality\, shamanism\, and indigenous spiritual practices and beliefs.  A member of the American Botanical Council’s Herb Research Society\, American Folklore Society\, Society for Shamanic Practitioners\, the International Center for Traditional Childbearing (Black Midwives and Healers)\, The Handcrafted Soap and Cosmetics Guild and the National Association of Holistic Aromatherapy\, Ms. Bird is also a part of the Authors Guild. She is a scholar\, graduating from Temple University with honors\, and she has been a member of the College Arts Association and the Fulbright Foundation. \n \n\n\n\n02/16 • J. Plunky Branch SaxophonistJ. Plunky Branch is an experienced performer\, songwriter\, producer and musicologist.  He has released 30 albums and composed over 450 songs.  Juju Jazz Poetics is Plunky’s first volume of poetry.  About it he says\, “I have taken to blowing my own horn\, and maybe I have stetted the boundaries of ego and versatility by assuming to call myself a ‘poet.’  I will let you be the judge.”  His autobiography\, Plunky: Juju Jazz Funk & Oneness – A Musical Memoir was published in 2015\, and he has produced three documentary films\, including Under the Radar – A Survey of Afro-Cuban Music shot in Cuba in 2001.  In 2018\, J. Plunky Branch received the prestigious “50 For 50 Award” from the Virginia Commission for the Arts as one of the 50 outstanding arts persons in Virginia of the last 50 years.  In 2015 he was selected as one of the Strong Men & Women in Virginia History by the Library of Virginia. \n \n\n\n\n02/22 • A Peter Bailey A native son of Tuskegee\, Alabama\, A. Peter Bailey attended Tuskegee Institute High School and Howard University.  His move to Harlem in 1962 changed his life forever.  This is where he met Malcolm X or El Hajj Malik El Shabazz\, and by 1964 he was a founding member of Malcolm X’s Organization of Afro-American Unity (OAAU) and an editor of the OAAU newsletter\, Blacklash.  He has also been an editor at Ebony magazine\, and he has contributed articles to Essence and The New York Times.  A. Peter Bailey has penned memoirs about Malcolm X and an autobiography of Alvin Ailey.  A lifelong “Malcolm-Ite\,” his newest title isBrother Malcolm X’s Strategic Guide to Pan Africanism:  An Important Guide for People of African Decent.  Bailey tells us\, “Anyone reading this book will increase their knowledge and guidance from Bro. Malcolm on why Pan Africanism is the best thing for people of African descent throughout the world to promote and protect the interests of African people.”
URL:https://efsinc.org/event/2022-the-black-book-expo-a-conscious-literary-festival/
LOCATION:Rythm Hall – Greater Richmond Convention Center\, 600 E. Grace St.\, Richmond\, VA\, 23219\, United States
ATTACH;FMTTYPE=image/jpeg:https://efsinc.org/wp-content/uploads/2022/02/BookExpoFly.jpg
ORGANIZER;CN="Elegba Folklore Society":MAILTO:story1@efsinc.org
END:VEVENT
END:VCALENDAR