BEGIN:VCALENDAR
VERSION:2.0
PRODID:-//Elegba Folklore Society - ECPv6.15.20//NONSGML v1.0//EN
CALSCALE:GREGORIAN
METHOD:PUBLISH
X-ORIGINAL-URL:https://efsinc.org
X-WR-CALDESC:Events for Elegba Folklore Society
REFRESH-INTERVAL;VALUE=DURATION:PT1H
X-Robots-Tag:noindex
X-PUBLISHED-TTL:PT1H
BEGIN:VTIMEZONE
TZID:America/New_York
BEGIN:DAYLIGHT
TZOFFSETFROM:-0500
TZOFFSETTO:-0400
TZNAME:EDT
DTSTART:20210314T070000
END:DAYLIGHT
BEGIN:STANDARD
TZOFFSETFROM:-0400
TZOFFSETTO:-0500
TZNAME:EST
DTSTART:20211107T060000
END:STANDARD
BEGIN:DAYLIGHT
TZOFFSETFROM:-0500
TZOFFSETTO:-0400
TZNAME:EDT
DTSTART:20220313T070000
END:DAYLIGHT
BEGIN:STANDARD
TZOFFSETFROM:-0400
TZOFFSETTO:-0500
TZNAME:EST
DTSTART:20221106T060000
END:STANDARD
BEGIN:DAYLIGHT
TZOFFSETFROM:-0500
TZOFFSETTO:-0400
TZNAME:EDT
DTSTART:20230312T070000
END:DAYLIGHT
BEGIN:STANDARD
TZOFFSETFROM:-0400
TZOFFSETTO:-0500
TZNAME:EST
DTSTART:20231105T060000
END:STANDARD
END:VTIMEZONE
BEGIN:VEVENT
DTSTART;TZID=America/New_York:20220626T160000
DTEND;TZID=America/New_York:20220626T210000
DTSTAMP:20260425T125013
CREATED:20220608T153213Z
LAST-MODIFIED:20220608T185046Z
UID:3466-1656259200-1656277200@efsinc.org
SUMMARY:Juneteenth 2022\, A Freedom Celebration
DESCRIPTION:Juneteenth\, A Freedom Celebration June 26\, 2022\n\n\n\n\n\n\nSpecial Thanks to: \n\n\n\n  \n\nJuneteenth\, A Freedom Celebration is Virginia’s flagship Juneteenth holiday commemoration. First presented in 1996\, it is reflective of Richmond and Virginia’s particular and poignant stories of enslavement and emancipation\, and it highlights the resolve and resilience of Africa’s children in America. \nRichmond is ground zero with regards to the country’s evolution in its racial mores\, disparities and hierarchies. Juneteenth 2022\, A Freedom Celebration will be a vital part of our community’s reset and healing. \nStay tuned for details as we invite you to this 25th Anniversary event where you can engage in performances\, healing cyphers\, the Get Woke Youth Summit\, the Freedom Market\, historical perspective and ancestral homage at Richmond’s African Burial Ground. \nThe elders say\, “We have to go out the way we came in.”  The pathway is being established. \nStay tuned for details. \nClick here to check out an interview regarding Junteenth\, A Freedom Celebration on Heritage Radio Network’s “Hot Grease” hosted by Nicole Taylor. \n\nJuneteenth 2022 Details \nPurchase Tickets \nCONTACT US
URL:https://efsinc.org/event/juneteenth-2022-a-freedom-celebration/
LOCATION:African Burial Ground\, Broad and 15th Streets\, Richmond\, VA\, 23219\, United States
ATTACH;FMTTYPE=image/jpeg:https://efsinc.org/wp-content/uploads/2021/05/LibationAtDockRS-scaled.jpeg
ORGANIZER;CN="Elegba Folklore Society":MAILTO:story1@efsinc.org
END:VEVENT
END:VCALENDAR