BEGIN:VCALENDAR
VERSION:2.0
PRODID:-//Elegba Folklore Society - ECPv6.15.20//NONSGML v1.0//EN
CALSCALE:GREGORIAN
METHOD:PUBLISH
X-ORIGINAL-URL:https://efsinc.org
X-WR-CALDESC:Events for Elegba Folklore Society
REFRESH-INTERVAL;VALUE=DURATION:PT1H
X-Robots-Tag:noindex
X-PUBLISHED-TTL:PT1H
BEGIN:VTIMEZONE
TZID:America/New_York
BEGIN:DAYLIGHT
TZOFFSETFROM:-0500
TZOFFSETTO:-0400
TZNAME:EDT
DTSTART:20210314T070000
END:DAYLIGHT
BEGIN:STANDARD
TZOFFSETFROM:-0400
TZOFFSETTO:-0500
TZNAME:EST
DTSTART:20211107T060000
END:STANDARD
BEGIN:DAYLIGHT
TZOFFSETFROM:-0500
TZOFFSETTO:-0400
TZNAME:EDT
DTSTART:20220313T070000
END:DAYLIGHT
BEGIN:STANDARD
TZOFFSETFROM:-0400
TZOFFSETTO:-0500
TZNAME:EST
DTSTART:20221106T060000
END:STANDARD
BEGIN:DAYLIGHT
TZOFFSETFROM:-0500
TZOFFSETTO:-0400
TZNAME:EDT
DTSTART:20230312T070000
END:DAYLIGHT
BEGIN:STANDARD
TZOFFSETFROM:-0400
TZOFFSETTO:-0500
TZNAME:EST
DTSTART:20231105T060000
END:STANDARD
END:VTIMEZONE
BEGIN:VEVENT
DTSTART;TZID=America/New_York:20220820T160000
DTEND;TZID=America/New_York:20220820T230000
DTSTAMP:20260425T084113
CREATED:20220802T223427Z
LAST-MODIFIED:20220802T223427Z
UID:3534-1661011200-1661036400@efsinc.org
SUMMARY:31st Down Home Family Reunion\, A Celebration African American Folklife
DESCRIPTION:31st Down Home Family Reunion\, A Celebration of African American Folklife    August 20\, 2022\n\n \n\n\n\n\n \n\n\n\n \n\n\n \n\nDown Home Family Reunion\, A Celebration of African American Folklife is a downtown weekend festival that celebrates African American folklife with world music and dance\, the Heritage Market\, special children’s events\, interactive site demonstrations and delicious down home food. It is designed to show aspects of West African cultural traditions that are African American and that have been absorbed by the American South.  This is one of the Society’s original programs created in 1990.\n\n \n31st Annual Down Home Family Reunion Details \n  \n2022 Merchandise Vendor Application \n  \n2022 Food Vendor Application \n  \n2022 Talented Youth Inquiry \n \n\n31ST DOWN HOME FAMILY REUNION SEEKS TO PRESENT TALENTED YOUTH The festival’s Annie Tyler New School Pavilion is a popular haven for our children. Rev. Tyler loved children and worked lovingly with Elegba Folklore Society to create quality cultural experiences for them until her death. May the good she did last forever. Cultural craft making teaches lessons\, games ensure fun and the stage showcases talented youth. Please contact us if you are interested in arranging a performance!\n\n \n2022 Share Your Community Service \n \n\nSHARE YOUR COMMUNITY SERVICE AT 31ST DOWN HOME FAMILY REUNION If your community-based organization provides a community service you want people to know about\, you may want to tell them from a table in the festival’s Waverly Crawley Community Row. Waverly Crawley was a fixture in Richmond’s Historic Jackson Ward\, the festival’s location. He constantly encouraged people to get involved in the community to make it better. He wanted people to know that they could make a difference. Please contact us if you are interested in a table. May the good he did last forever.\n\n \n2022 Small Business Exhibitors \n \n\nSmall Business Owners! You are invited to the 31st Down Home Family Reunion! This Celebration of African American Folklife will happen on Saturday\, August 20\, 2022\, 4p – 11p in Richmond\, Virginia!\n\n \n\nContact Us to Join Us in the SmartMart\n\n \n\n• Display and tell your story\n\n \n\n• Interact with and distribute materials to festival attendees\n\n \n\n• Be highlighted in one prize drawing from the Main Stage!\n\n \n\nHow You Benefit Fast-track the promotions of your products/services to Richmonders and visitors by distributing product samples and prize drawings. Reinforce your marketing and public relations campaigns by distributing your flyers\, discount coupons\, business cards\, surveys and other promotional materials.\n\n \n\nEnhance your product or service image in the Richmond business picture. Be highlighted among your peers and in the community in our covered SmartMart business tent. One table\, two chairs and signage will be provided. Demonstrate your commitment to civic/social vitality. Be highlighted in one prize drawing from the Main Stage. This festival connects aspects of West African traditions with those of African Americans through the ambience of a family gathering. The festival’s location is Abner Clay Park\, located downtown in Historic Jackson Ward.\n\n \n\nWorld music and dance headline the Down Home Family Reunion along with site demonstrations and children’s programs. This event couples history with its contemporary significance. With an expected attendance of 13\,000 the festival includes a SmartMart with you in mind.  Please contact us if you are interested.\n\n \nParking \n \n\nThe 30th Down Home Family Reunion is grateful to offer parking for the festival in the lots at Belvidere and Leigh Streets\, Sixth Mount Zion Baptist Church and the lots across from the church. Signage will help direct patrons to these locations.\n\n \n\n\n\n \nCONTACT US
URL:https://efsinc.org/event/31st-down-home-family-reunion-a-celebration-african-american-folklife/
LOCATION:VA
ATTACH;FMTTYPE=image/jpeg:https://efsinc.org/wp-content/uploads/2022/08/unnamed-2022-08-02T171012.460.jpg
END:VEVENT
END:VCALENDAR