BEGIN:VCALENDAR
VERSION:2.0
PRODID:-//Elegba Folklore Society - ECPv6.15.20//NONSGML v1.0//EN
CALSCALE:GREGORIAN
METHOD:PUBLISH
X-ORIGINAL-URL:https://efsinc.org
X-WR-CALDESC:Events for Elegba Folklore Society
REFRESH-INTERVAL;VALUE=DURATION:PT1H
X-Robots-Tag:noindex
X-PUBLISHED-TTL:PT1H
BEGIN:VTIMEZONE
TZID:America/New_York
BEGIN:DAYLIGHT
TZOFFSETFROM:-0500
TZOFFSETTO:-0400
TZNAME:EDT
DTSTART:20220313T070000
END:DAYLIGHT
BEGIN:STANDARD
TZOFFSETFROM:-0400
TZOFFSETTO:-0500
TZNAME:EST
DTSTART:20221106T060000
END:STANDARD
BEGIN:DAYLIGHT
TZOFFSETFROM:-0500
TZOFFSETTO:-0400
TZNAME:EDT
DTSTART:20230312T070000
END:DAYLIGHT
BEGIN:STANDARD
TZOFFSETFROM:-0400
TZOFFSETTO:-0500
TZNAME:EST
DTSTART:20231105T060000
END:STANDARD
BEGIN:DAYLIGHT
TZOFFSETFROM:-0500
TZOFFSETTO:-0400
TZNAME:EDT
DTSTART:20240310T070000
END:DAYLIGHT
BEGIN:STANDARD
TZOFFSETFROM:-0400
TZOFFSETTO:-0500
TZNAME:EST
DTSTART:20241103T060000
END:STANDARD
END:VTIMEZONE
BEGIN:VEVENT
DTSTART;TZID=America/New_York:20230218T170000
DTEND;TZID=America/New_York:20230218T190000
DTSTAMP:20260424T234629
CREATED:20230126T223747Z
LAST-MODIFIED:20230126T224420Z
UID:3671-1676739600-1676746800@efsinc.org
SUMMARY:3rd Saturday Documentaries:  James Baldwin: The Price of the Ticket
DESCRIPTION:The 3rd Saturday Documentaries continue on February 18 at 5p ET with James Baldwin: The Price of the Ticket.  Striking archival footage explores the passionate intellect and courageous writing of a man who was born black\, poor\, gay and gifted. James Baldwin (1924-1987) was at once a major twentieth century American author\, a Civil Rights activist and a prophetic voice calling Americans to confront their shared racial tragedy.  Admission is free.
URL:https://efsinc.org/event/3rd-saturday-documentaries-james-baldwin-the-price-of-the-ticket/
LOCATION:Elegba Folklore Society’s Cultural Center\, 101 E Broad St\, Richmond\, VA\, 23219\, United States
ATTACH;FMTTYPE=image/png:https://efsinc.org/wp-content/uploads/2023/01/unnamed-14.png
END:VEVENT
END:VCALENDAR