BEGIN:VCALENDAR
VERSION:2.0
PRODID:-//Elegba Folklore Society - ECPv6.15.20//NONSGML v1.0//EN
CALSCALE:GREGORIAN
METHOD:PUBLISH
X-ORIGINAL-URL:https://efsinc.org
X-WR-CALDESC:Events for Elegba Folklore Society
REFRESH-INTERVAL;VALUE=DURATION:PT1H
X-Robots-Tag:noindex
X-PUBLISHED-TTL:PT1H
BEGIN:VTIMEZONE
TZID:America/New_York
BEGIN:DAYLIGHT
TZOFFSETFROM:-0500
TZOFFSETTO:-0400
TZNAME:EDT
DTSTART:20230312T070000
END:DAYLIGHT
BEGIN:STANDARD
TZOFFSETFROM:-0400
TZOFFSETTO:-0500
TZNAME:EST
DTSTART:20231105T060000
END:STANDARD
BEGIN:DAYLIGHT
TZOFFSETFROM:-0500
TZOFFSETTO:-0400
TZNAME:EDT
DTSTART:20240310T070000
END:DAYLIGHT
BEGIN:STANDARD
TZOFFSETFROM:-0400
TZOFFSETTO:-0500
TZNAME:EST
DTSTART:20241103T060000
END:STANDARD
BEGIN:DAYLIGHT
TZOFFSETFROM:-0500
TZOFFSETTO:-0400
TZNAME:EDT
DTSTART:20250309T070000
END:DAYLIGHT
BEGIN:STANDARD
TZOFFSETFROM:-0400
TZOFFSETTO:-0500
TZNAME:EST
DTSTART:20251102T060000
END:STANDARD
END:VTIMEZONE
BEGIN:VEVENT
DTSTART;TZID=America/New_York:20240413T120000
DTEND;TZID=America/New_York:20241109T160000
DTSTAMP:20260423T233824
CREATED:20240408T163907Z
LAST-MODIFIED:20240409T225234Z
UID:4023-1713009600-1731168000@efsinc.org
SUMMARY:Elegba Folklore Society Cultural Tours
DESCRIPTION:In the Beginning…Virginia\, Along the Trail of Enslaved Africans \n\nEvolutionary\, experiential and visceral along the Trail of Enslaved Africans\, attendees are invited to immerse themselves in past occurrences that impact our perspectives today.  From the African arrival point at river’s edge to Shockoe Bottom and the sites of holding pens\, jails\, blocks and African burial ground\, interpreters will interweave the narratives of enslaved Africans with the historical record.  From your bus and along the walk\, participants will have the chance to ponder the impact of enslavement on the enslaved as shared in their own words and from their own view. \nContextually\, this interactive experience begins at Ẹlẹgba Folklore Society’s Cultural Center\, a space that emphasizes the authenticity of continental and Diasporic Africa through material culture. \nPlease encourage participants to wear comfortable shoes and dress. Bottled water is also suggested.  The sites on the trail occur in a wooded area along the river as well as in urban city settings.  There will be some walking.   \n\nIn the Footsteps of Maggie Walker\nẸlẹgba Folklore Society creates and guides this cultural history tour as a contextual biography of Jackson Ward luminary\, Maggie Lena Walker. Evolutionary from her birthplace in Church Hill to her elevation in Historic Jackson Ward\, attendees have the chance to ponder black excellence and community building in early 20th century Richmond in light of its significance today.
URL:https://efsinc.org/event/elegba-folklore-society-cultural-tours/
LOCATION:Elegba Folklore Society’s Cultural Center\, 101 E Broad St\, Richmond\, VA\, 23219\, United States
ORGANIZER;CN="Elegba Folklore Society":MAILTO:story1@efsinc.org
END:VEVENT
BEGIN:VEVENT
DTSTART;TZID=America/New_York:20240608T113000
DTEND;TZID=America/New_York:20240608T150000
DTSTAMP:20260423T233824
CREATED:20240527T222437Z
LAST-MODIFIED:20240527T223224Z
UID:4085-1717846200-1717858800@efsinc.org
SUMMARY:Celebrate African and African American Art: Nigeria
DESCRIPTION:TheTalkingDrumMusic\n\nBe in our audience for excerpts from The Talking Drum.  The drum is a legendary communications tool — a punctuating teller of life as it happens.  This lively delivery of African and African American folktales and narratives combine with vocal and instrumental music to engage audiences along a rhythmic journey over continents and through time.\n\nThe Talking Drum has been called:\n\n“Absolutely fantastic!”  \n\nEnjoy all! Then\, join us next door at the Virginia Museum of History & Culture as Juneteenth 2024\, A Freedom Celebration featuring the Black Book Expo continues with independent authors\, live performances\, a vast display of books plus snacks and drinks\, 2p – 7p.  Serendipity!
URL:https://efsinc.org/event/celebrate-african-and-african-american-art-nigeria/
LOCATION:Virginia Museum of Fine Arts\, 200 North Blvd\, Richmond\, VA\, 23220\, United States
ATTACH;FMTTYPE=image/jpeg:https://efsinc.org/wp-content/uploads/2024/05/TheTalkingDrumCast-scaled.jpg
END:VEVENT
BEGIN:VEVENT
DTSTART;TZID=America/New_York:20240608T140000
DTEND;TZID=America/New_York:20240608T190000
DTSTAMP:20260423T233824
CREATED:20240419T201805Z
LAST-MODIFIED:20240419T201805Z
UID:4047-1717855200-1717873200@efsinc.org
SUMMARY:Juneteenth 2024\, A Freedom Celebration - Featuring the Black Book Expo (June 8th)
DESCRIPTION:Juneteenth 2024\, A Freedom Celebration featuring the Black Book Expo will happen on Friday\, June 7 through Sunday\, June 9 as we are\, thematically\, Dancing with the Ancestors.   \nJoin Elegba Folklore Society at the Virginia Museum of History & Culture on June 7 – 8\, at 5p on June 7 and at 2p on June 8\, for a vast display of literature featuring topics including black history\, social justice\, science\, health\, African Diasporic culture\, African spirituality\, personal development\, novels and children’s books.  Short talks by independent authors and book signings\, a keynote speaker\, live performances plus the Freedom Market filled with unique finds\, tasty food and beverages and highlighting the Get Woke Youth Summit compliment this conscious literary festival in observance of Juneteenth.
URL:https://efsinc.org/event/juneteenth-2024-a-freedom-celebration-featuring-the-black-book-expo-june-8th/
LOCATION:Virginia Museum of History & Culture\, 428 N Arthur Ashe Blvd\, Richmond\, VA\, 23220\, United States
ORGANIZER;CN="Elegba Folklore Society":MAILTO:story1@efsinc.org
END:VEVENT
END:VCALENDAR