BEGIN:VCALENDAR
VERSION:2.0
PRODID:-//Elegba Folklore Society - ECPv6.15.20//NONSGML v1.0//EN
CALSCALE:GREGORIAN
METHOD:PUBLISH
X-ORIGINAL-URL:https://efsinc.org
X-WR-CALDESC:Events for Elegba Folklore Society
REFRESH-INTERVAL;VALUE=DURATION:PT1H
X-Robots-Tag:noindex
X-PUBLISHED-TTL:PT1H
BEGIN:VTIMEZONE
TZID:America/New_York
BEGIN:DAYLIGHT
TZOFFSETFROM:-0500
TZOFFSETTO:-0400
TZNAME:EDT
DTSTART:20150308T070000
END:DAYLIGHT
BEGIN:STANDARD
TZOFFSETFROM:-0400
TZOFFSETTO:-0500
TZNAME:EST
DTSTART:20151101T060000
END:STANDARD
BEGIN:DAYLIGHT
TZOFFSETFROM:-0500
TZOFFSETTO:-0400
TZNAME:EDT
DTSTART:20160313T070000
END:DAYLIGHT
BEGIN:STANDARD
TZOFFSETFROM:-0400
TZOFFSETTO:-0500
TZNAME:EST
DTSTART:20161106T060000
END:STANDARD
BEGIN:DAYLIGHT
TZOFFSETFROM:-0500
TZOFFSETTO:-0400
TZNAME:EDT
DTSTART:20170312T070000
END:DAYLIGHT
BEGIN:STANDARD
TZOFFSETFROM:-0400
TZOFFSETTO:-0500
TZNAME:EST
DTSTART:20171105T060000
END:STANDARD
END:VTIMEZONE
BEGIN:VEVENT
DTSTART;TZID=America/New_York:20160408T193000
DTEND;TZID=America/New_York:20160408T213000
DTSTAMP:20260424T054442
CREATED:20160329T011444Z
LAST-MODIFIED:20160329T011444Z
UID:1796-1460143800-1460151000@efsinc.org
SUMMARY:VISUALIZING AND ENERGIZING YOUR DIVINITY THRU THE IMAGINATIVE POWER OF HET HERU
DESCRIPTION:Ausar Auset Society Richmond\, Va. invites you to a Meditation/Healing workshop on Friday\, April 8\, 2016\, 7:30pm – 9:30pm\, $7 donation\, Elegba Folklore Society\, 101 East Broad Street\, Richmond\, Va. 23219
URL:https://efsinc.org/event/visualizing-and-energizing-your-divinity-thru-the-imaginative-power-of-het-heru/
LOCATION:Elegba Folklore Society’s Cultural Center\, 101 E Broad St\, Richmond\, VA\, 23219\, United States
CATEGORIES:Lectures,Speakers,Workshops
ATTACH;FMTTYPE=image/jpeg:https://efsinc.org/wp-content/uploads/2016/03/Het-Heru-Healing-Workshop-in-Richmond-2016-page-001.jpg
END:VEVENT
END:VCALENDAR