BEGIN:VCALENDAR
VERSION:2.0
PRODID:-//Elegba Folklore Society - ECPv6.15.20//NONSGML v1.0//EN
CALSCALE:GREGORIAN
METHOD:PUBLISH
X-ORIGINAL-URL:https://efsinc.org
X-WR-CALDESC:Events for Elegba Folklore Society
REFRESH-INTERVAL;VALUE=DURATION:PT1H
X-Robots-Tag:noindex
X-PUBLISHED-TTL:PT1H
BEGIN:VTIMEZONE
TZID:America/New_York
BEGIN:DAYLIGHT
TZOFFSETFROM:-0500
TZOFFSETTO:-0400
TZNAME:EDT
DTSTART:20150308T070000
END:DAYLIGHT
BEGIN:STANDARD
TZOFFSETFROM:-0400
TZOFFSETTO:-0500
TZNAME:EST
DTSTART:20151101T060000
END:STANDARD
BEGIN:DAYLIGHT
TZOFFSETFROM:-0500
TZOFFSETTO:-0400
TZNAME:EDT
DTSTART:20160313T070000
END:DAYLIGHT
BEGIN:STANDARD
TZOFFSETFROM:-0400
TZOFFSETTO:-0500
TZNAME:EST
DTSTART:20161106T060000
END:STANDARD
BEGIN:DAYLIGHT
TZOFFSETFROM:-0500
TZOFFSETTO:-0400
TZNAME:EDT
DTSTART:20170312T070000
END:DAYLIGHT
BEGIN:STANDARD
TZOFFSETFROM:-0400
TZOFFSETTO:-0500
TZNAME:EST
DTSTART:20171105T060000
END:STANDARD
END:VTIMEZONE
BEGIN:VEVENT
DTSTART;TZID=America/New_York:20160920T180000
DTEND;TZID=America/New_York:20160920T203000
DTSTAMP:20260423T063511
CREATED:20160912T014052Z
LAST-MODIFIED:20160912T014310Z
UID:1899-1474394400-1474403400@efsinc.org
SUMMARY:A Cultural History Tour With Coming To The Table
DESCRIPTION:Coming To The Table has invited Elegba Folklore Society to guide a special experience along the Trail of Enslaved Africans.  Interested?    Tuesday September 20\, 6:00-8:30.    Wear appropriate shoes and bring a light…we are walking on wooded trail along the river.  How has history shaped the ways we see ourselves and others today?\nDetails:  martha@livingintheand.com
URL:https://efsinc.org/event/a-cultural-history-tour-with-coming-to-the-table/
LOCATION:The Trail Of Enslaved Africans\, Manchester Dock\, Richmond\, United States
CATEGORIES:Tours
ORGANIZER;CN="Coming To The Table":MAILTO:martha@livingintheand.com
END:VEVENT
END:VCALENDAR