BEGIN:VCALENDAR
VERSION:2.0
PRODID:-//Elegba Folklore Society - ECPv6.15.20//NONSGML v1.0//EN
CALSCALE:GREGORIAN
METHOD:PUBLISH
X-WR-CALNAME:Elegba Folklore Society
X-ORIGINAL-URL:https://efsinc.org
X-WR-CALDESC:Events for Elegba Folklore Society
REFRESH-INTERVAL;VALUE=DURATION:PT1H
X-Robots-Tag:noindex
X-PUBLISHED-TTL:PT1H
BEGIN:VTIMEZONE
TZID:America/New_York
BEGIN:DAYLIGHT
TZOFFSETFROM:-0500
TZOFFSETTO:-0400
TZNAME:EDT
DTSTART:20200308T070000
END:DAYLIGHT
BEGIN:STANDARD
TZOFFSETFROM:-0400
TZOFFSETTO:-0500
TZNAME:EST
DTSTART:20201101T060000
END:STANDARD
BEGIN:DAYLIGHT
TZOFFSETFROM:-0500
TZOFFSETTO:-0400
TZNAME:EDT
DTSTART:20210314T070000
END:DAYLIGHT
BEGIN:STANDARD
TZOFFSETFROM:-0400
TZOFFSETTO:-0500
TZNAME:EST
DTSTART:20211107T060000
END:STANDARD
BEGIN:DAYLIGHT
TZOFFSETFROM:-0500
TZOFFSETTO:-0400
TZNAME:EDT
DTSTART:20220313T070000
END:DAYLIGHT
BEGIN:STANDARD
TZOFFSETFROM:-0400
TZOFFSETTO:-0500
TZNAME:EST
DTSTART:20221106T060000
END:STANDARD
END:VTIMEZONE
BEGIN:VEVENT
DTSTART;TZID=America/New_York:20210912T140000
DTEND;TZID=America/New_York:20210912T190000
DTSTAMP:20260425T223147
CREATED:20210830T213259Z
LAST-MODIFIED:20210909T190701Z
UID:3191-1631455200-1631473200@efsinc.org
SUMMARY:30th Down Home Family Reunion\, A Celebration of African American Folklife!
DESCRIPTION:30th Down Home Family Reunion\, A Celebration of African American Folklife    September 12\, 2021 \nChoose to sit in the Gold Circle\n \n\n \n\n\n\n \n\n \n \n \n\n\n\n\n\n  \n\n        \n                  \n          \n    \n    \n  \n  \n\n        \n                  \n          \n    \n    \n  \n  \n\n        \n                  \n          \n    \n    \n  \n  \n\n        \n                  \n          \n    \n    \n  \n\n\n\n\n\nDown Home Family Reunion\, A Celebration of African American Folklife is a downtown weekend festival that celebrates African American folklife with world music and dance\, the Heritage Market\, special children’s events\, interactive site demonstrations and delicious down home food. It is designed to show aspects of West African cultural traditions that are African American and that have been absorbed by the American South.  This is one of the Society’s original programs created in 1990. \n30th Annual Down Home Family Reunion Details \n2021 Merchandise Vendor Application \n2021 Food Vendor Application \n2021 Talented Youth Inquiry \n30TH DOWN HOME FAMILY REUNION SEEKS TO PRESENT TALENTED YOUTH The festival’s Annie Tyler New School Pavilion is a popular haven for our children. Rev. Tyler loved children and worked lovingly with Elegba Folklore Society to create quality cultural experiences for them until her death. May the good she did last forever. Cultural craft making teaches lessons\, games ensure fun and the stage showcases talented youth. Please contact us if you are interested in arranging a performance! \n2021 Share Your Community Service \nSHARE YOUR COMMUNITY SERVICE AT 30TH DOWN HOME FAMILY REUNION If your community-based organization provides a community service you want people to know about\, you may want to tell them from a table in the festival’s Waverly Crawley Community Row. Waverly Crawley was a fixture in Richmond’s Historic Jackson Ward\, the festival’s location. He constantly encouraged people to get involved in the community to make it better. He wanted people to know that they could make a difference. Please contact us if you are interested in a table. May the good he did last forever. \n2021 Small Business Exhibitors \nSmall Business Owners! You are invited to the 30th Down Home Family Reunion! This Celebration of African American Folklife will happen on Saturday\, September 12\, 2021\, 4p – 11p in Richmond\, Virginia! \nContact Us to Join Us in the SmartMart \n• Display and tell your story \n• Interact with and distribute materials to festival attendees \n• Be highlighted in one prize drawing from the Main Stage! \nHow You Benefit Fast-track the promotions of your products/services to Richmonders and visitors by distributing product samples and prize drawings. Reinforce your marketing and public relations campaigns by distributing your flyers\, discount coupons\, business cards\, surveys and other promotional materials. \nEnhance your product or service image in the Richmond business picture. Be highlighted among your peers and in the community in our covered SmartMart business tent. One table\, two chairs and signage will be provided. Demonstrate your commitment to civic/social vitality. Be highlighted in one prize drawing from the Main Stage. This festival connects aspects of West African traditions with those of African Americans through the ambiance of a family gathering. The festival’s location is Abner Clay Park\, located downtown in Historic Jackson Ward. \nWorld music and dance headline the Down Home Family Reunion along with site demonstrations and children’s programs. This event couples history with its contemporary significance. With an expected attendance of 13\,000 the festival includes a SmartMart with you in mind.  Please contact us if you are interested. \n CONTACT US
URL:https://efsinc.org/event/30th-down-home-family-reunion-a-celebration-of-african-american-folklife/
LOCATION:Kanawha Plaza\, S 8th & E Canal St\, Richmond\, VA\, Richmond\, VA 23219\, United States
ORGANIZER;CN="Elegba Folklore Society":MAILTO:story1@efsinc.org
END:VEVENT
BEGIN:VEVENT
DTSTART;TZID=America/New_York:20210925T120000
DTEND;TZID=America/New_York:20210925T153000
DTSTAMP:20260425T223147
CREATED:20210718T013613Z
LAST-MODIFIED:20210921T014145Z
UID:3174-1632571200-1632583800@efsinc.org
SUMMARY:In the Beginning… Virginia\, Along the Trail of Enslaved Africans (September)
DESCRIPTION:Please join Elegba Folklore Society to experience In the Beginning… Virginia\, Along the Trail of Enslaved Africans\, a cultural history tour. Journey into Richmond’s history to visit sites to hear the stories that live between the pages of history books. Ponder the impact of enslavement on the enslaved as shared in their own words and from their own view. Walk in our ancestors’ footsteps from their arrival point at river’s edge into Shockoe Bottom\, the area of Richmond that housed the holding pens\, jails\, blocks and burial ground. Learn from narratives of enslaved Africans\, the historical record and characterizations of the day to immerse yourself in past occurrences that impact our perspectives today. \nWe will travel by bus and also on foot. Please wear comfortable shoes. Bring a bottle of water. Covid protocols. \nThis series begins on Saturday\, July 10 at noon. Tours occur every second Saturday through November. Tickets are $15 for adults and $7.50 for children under 12. \nQuestions? story1@efsinc.org or 804.644.3900.
URL:https://efsinc.org/event/in-the-beginning-virginia-along-the-trail-of-enslaved-africans-september/
LOCATION:Elegba Folklore Society’s Cultural Center\, 101 E Broad St\, Richmond\, VA\, 23219\, United States
ATTACH;FMTTYPE=image/jpeg:https://efsinc.org/wp-content/uploads/2021/07/unnamed-2021-07-17T212242.900.jpg
END:VEVENT
END:VCALENDAR