BEGIN:VCALENDAR
VERSION:2.0
PRODID:-//Elegba Folklore Society - ECPv6.15.20//NONSGML v1.0//EN
CALSCALE:GREGORIAN
METHOD:PUBLISH
X-ORIGINAL-URL:https://efsinc.org
X-WR-CALDESC:Events for Elegba Folklore Society
REFRESH-INTERVAL;VALUE=DURATION:PT1H
X-Robots-Tag:noindex
X-PUBLISHED-TTL:PT1H
BEGIN:VTIMEZONE
TZID:America/New_York
BEGIN:DAYLIGHT
TZOFFSETFROM:-0500
TZOFFSETTO:-0400
TZNAME:EDT
DTSTART:20200308T070000
END:DAYLIGHT
BEGIN:STANDARD
TZOFFSETFROM:-0400
TZOFFSETTO:-0500
TZNAME:EST
DTSTART:20201101T060000
END:STANDARD
BEGIN:DAYLIGHT
TZOFFSETFROM:-0500
TZOFFSETTO:-0400
TZNAME:EDT
DTSTART:20210314T070000
END:DAYLIGHT
BEGIN:STANDARD
TZOFFSETFROM:-0400
TZOFFSETTO:-0500
TZNAME:EST
DTSTART:20211107T060000
END:STANDARD
BEGIN:DAYLIGHT
TZOFFSETFROM:-0500
TZOFFSETTO:-0400
TZNAME:EDT
DTSTART:20220313T070000
END:DAYLIGHT
BEGIN:STANDARD
TZOFFSETFROM:-0400
TZOFFSETTO:-0500
TZNAME:EST
DTSTART:20221106T060000
END:STANDARD
END:VTIMEZONE
BEGIN:VEVENT
DTSTART;TZID=America/New_York:20211203T130000
DTEND;TZID=America/New_York:20211203T200000
DTSTAMP:20260425T182702
CREATED:20211129T032358Z
LAST-MODIFIED:20211129T032929Z
UID:3245-1638536400-1638561600@efsinc.org
SUMMARY:REAL BLACK FRIDAYS Holiday Sales Event - December 3rd
DESCRIPTION:  \nDeck the halls with African art\nFa la la la la \nIt’s the Real Black Fridays. Visit for discounts & cheer. \nOur Home is Your Home. Come\, feel the Vibe.\nThe Real Black Fridays\nGive the Gift of Culture\nDecember 3\, 10 & 17.\nOpen Late! \nCovid Protocols. Safety First.
URL:https://efsinc.org/event/real-black-fridays-holiday-sales-event-december-3rd/
LOCATION:Elegba Folklore Society’s Cultural Center\, 101 E Broad St\, Richmond\, VA\, 23219\, United States
ATTACH;FMTTYPE=image/jpeg:https://efsinc.org/wp-content/uploads/2021/11/IMG_20211128_153230_629.jpg
ORGANIZER;CN="Elegba Folklore Society":MAILTO:story1@efsinc.org
END:VEVENT
BEGIN:VEVENT
DTSTART;TZID=America/New_York:20211210T130000
DTEND;TZID=America/New_York:20211210T200000
DTSTAMP:20260425T182702
CREATED:20211129T033310Z
LAST-MODIFIED:20211129T033310Z
UID:3248-1639141200-1639166400@efsinc.org
SUMMARY:REAL BLACK FRIDAYS Holiday Sales Event - December 10th
DESCRIPTION:  \nDeck the halls with African art\nFa la la la la \nIt’s the Real Black Fridays. Visit for discounts & cheer. \nOur Home is Your Home. Come\, feel the Vibe.\nThe Real Black Fridays\nGive the Gift of Culture\nDecember 3\, 10 & 17.\nOpen Late! \nCovid Protocols. Safety First.
URL:https://efsinc.org/event/real-black-fridays-holiday-sales-event-december-10th/
LOCATION:Elegba Folklore Society’s Cultural Center\, 101 E Broad St\, Richmond\, VA\, 23219\, United States
ATTACH;FMTTYPE=image/jpeg:https://efsinc.org/wp-content/uploads/2021/11/IMG_20211128_153230_629.jpg
END:VEVENT
BEGIN:VEVENT
DTSTART;TZID=America/New_York:20211217T130000
DTEND;TZID=America/New_York:20211217T200000
DTSTAMP:20260425T182702
CREATED:20211129T033440Z
LAST-MODIFIED:20211129T033440Z
UID:3250-1639746000-1639771200@efsinc.org
SUMMARY:REAL BLACK FRIDAYS Holiday Sales Event - December 17th
DESCRIPTION:  \nDeck the halls with African art\nFa la la la la \nIt’s the Real Black Fridays. Visit for discounts & cheer. \nOur Home is Your Home. Come\, feel the Vibe.\nThe Real Black Fridays\nGive the Gift of Culture\nDecember 3\, 10 & 17.\nOpen Late! \nCovid Protocols. Safety First.
URL:https://efsinc.org/event/real-black-fridays-holiday-sales-event-december-17th/
LOCATION:Elegba Folklore Society’s Cultural Center\, 101 E Broad St\, Richmond\, VA\, 23219\, United States
ATTACH;FMTTYPE=image/jpeg:https://efsinc.org/wp-content/uploads/2021/11/IMG_20211128_153230_629.jpg
ORGANIZER;CN="Elegba Folklore Society":MAILTO:story1@efsinc.org
END:VEVENT
BEGIN:VEVENT
DTSTART;TZID=America/New_York:20211230T180000
DTEND;TZID=America/New_York:20211230T230000
DTSTAMP:20260425T182702
CREATED:20211215T024533Z
LAST-MODIFIED:20211229T183517Z
UID:3275-1640887200-1640905200@efsinc.org
SUMMARY:Capital City Kwanzaa Festival December 30\, 2021
DESCRIPTION:Capital City Kwanzaa Festival December 30\, 2021\nCapital City Kwanzaa Festival   December 30\, 2021 \nCapital City Kwanzaa Festival presents performances\, workshops\, children’s activities\, The African Market\, food and more observe the year’s-end Kwanzaa holiday\, a cultural affirmation of values\, thanksgiving and growth.  This event is the largest of its kind in Virginia\, and therefore\, one of the largest on the East Coast. Elegba Folklore Society’s Artistic Director first produced a Kwanzaa program in Richmond in 1986 and the Society first presented its festival in 1990.  (Annually during the December Kwanzaa Holiday) \n\n\n\n\n\n \n\n  \n \n \n\n\n\n\n\n  \n\n        \n                  \n          \n    \n    \n  \n  \n\n        \n                  \n          \n    \n    \n  \n  \n\n        \n                  \n          \n    \n    \n  \n  \n\n        \n                  \n          \n    \n    \n  \n  \n\n        \n                  \n          \n    \n    \n  \n  \n\n        \n                  \n          \n    \n    \n  \n\n\n\n\n2021 Capital City Kwanzaa Festival Covid Protocols \n2021 Capital City Kwanzaa Festival Details \n 
URL:https://efsinc.org/event/capital-city-kwanzaa-festival-december-30-2021/
LOCATION:Greater Richmond Convention Center – Exhibit Hall B\, 5th & Marshall Streets\, Richmond\, VA\, 23219\, United States
ATTACH;FMTTYPE=image/png:https://efsinc.org/wp-content/uploads/2021/12/Capital-City-Kwanzaa-Festival-2021-side-1.png
END:VEVENT
END:VCALENDAR