BEGIN:VCALENDAR
VERSION:2.0
PRODID:-//Elegba Folklore Society - ECPv6.15.20//NONSGML v1.0//EN
CALSCALE:GREGORIAN
METHOD:PUBLISH
X-WR-CALNAME:Elegba Folklore Society
X-ORIGINAL-URL:https://efsinc.org
X-WR-CALDESC:Events for Elegba Folklore Society
REFRESH-INTERVAL;VALUE=DURATION:PT1H
X-Robots-Tag:noindex
X-PUBLISHED-TTL:PT1H
BEGIN:VTIMEZONE
TZID:America/New_York
BEGIN:DAYLIGHT
TZOFFSETFROM:-0500
TZOFFSETTO:-0400
TZNAME:EDT
DTSTART:20210314T070000
END:DAYLIGHT
BEGIN:STANDARD
TZOFFSETFROM:-0400
TZOFFSETTO:-0500
TZNAME:EST
DTSTART:20211107T060000
END:STANDARD
BEGIN:DAYLIGHT
TZOFFSETFROM:-0500
TZOFFSETTO:-0400
TZNAME:EDT
DTSTART:20220313T070000
END:DAYLIGHT
BEGIN:STANDARD
TZOFFSETFROM:-0400
TZOFFSETTO:-0500
TZNAME:EST
DTSTART:20221106T060000
END:STANDARD
BEGIN:DAYLIGHT
TZOFFSETFROM:-0500
TZOFFSETTO:-0400
TZNAME:EDT
DTSTART:20230312T070000
END:DAYLIGHT
BEGIN:STANDARD
TZOFFSETFROM:-0400
TZOFFSETTO:-0500
TZNAME:EST
DTSTART:20231105T060000
END:STANDARD
END:VTIMEZONE
BEGIN:VEVENT
DTSTART;TZID=America/New_York:20220611T113000
DTEND;TZID=America/New_York:20220611T140000
DTSTAMP:20260425T113515
CREATED:20220604T193846Z
LAST-MODIFIED:20220604T193846Z
UID:3450-1654947000-1654956000@efsinc.org
SUMMARY:African Traditions in Virginia
DESCRIPTION:Celebrate African and African American Art: Global Community Family Day \nSaturday\, June 11 at 11:30am and again at 2pm. \nVirginia Museum of Fine Arts \nBe in our audience for African Traditions in Virginia.  This dance theatre presentation is about lifestyles\, folklore\, language\, family\, spirit and more as told in music\, dance and stories. It is a forum for diverse audiences to develop a greater appreciation for heritage.  Bringing its notable brand of cultural arts interpretation to VMFA for Family Day\, we invite visitors to explore their own lives and family traditions as expressed through art. \n“Wow! We laughed and learned in the same moment. Your performers brought us\nright into the story.” \n📸 @acwmuseum
URL:https://efsinc.org/event/african-traditions-in-virginia-2/
LOCATION:Virginia Museum of Fine Arts\, 200 North Blvd\, Richmond\, VA\, 23220\, United States
ATTACH;FMTTYPE=image/jpeg:https://efsinc.org/wp-content/uploads/2022/06/6-EFS-DanceTheatre-OJB-scaled.jpg
ORGANIZER;CN="Elegba Folklore Society":MAILTO:story1@efsinc.org
END:VEVENT
BEGIN:VEVENT
DTSTART;TZID=America/New_York:20220611T190000
DTEND;TZID=America/New_York:20220611T220000
DTSTAMP:20260425T113515
CREATED:20220514T212242Z
LAST-MODIFIED:20220610T151850Z
UID:3434-1654974000-1654984800@efsinc.org
SUMMARY:Torch Lit Night Walk Along the Trail of Enslaved Africans (June)
DESCRIPTION:Juneteenth\, A Freedom Celebration is Virginia’s flagship Juneteenth holiday commemoration\, and it attracts visitors from around the state and beyond.  It reflects  particular and poignant stories of enslavement and emancipation that shaped a nation\, while highlighting the resolve and resilience of Africa’s children in America.  In its 26th year\, attendees can engage in spirit-filled performances\, sacred rituals\, healing cyphers\, the Get Woke Youth Summit\, the Freedom Market\, historical perspectives and ancestral homage.\n\n\nTickets are $5\, general admission. Children under 12 come free.\n\n\nPreliminarily\, Elegba Folklore Society will also present the Torch Lit Night Walk Along the Trail of Enslaved Africans as a part of and pilgrimage introduction to Juneteenth\, 2022\, A Freedom Celebration on Saturday\, June 11 beginning at the Manchester Dock\, 1308 Brander Street\, at 7:00p.  Interpreters will interweave the narratives of enslaved Africans with the historical record\, characterizations of the day and music.  This program is free and open to the public.\n\nLook back.  Focus Forward.\nQuestions? story1@efsinc.org or 804.644.3900. \nTo register for “Torch Lit Night Walk Along the Trail of Enslaved Africans”\, click “GET TICKETS” for the In the Beginning\, Along the Trail of Enslaved Africans\, then choose “GET TICKETS” for the June 11th date.  Once you have done that\, you need to select the number of tickets and click “ADD TO CART”.  There is no charge for the tickets.
URL:https://efsinc.org/event/in-the-beginning-virginia-along-the-trail-of-enslaved-africans-june/
LOCATION:Elegba Folklore Society’s Cultural Center\, 101 E Broad St\, Richmond\, VA\, 23219\, United States
ATTACH;FMTTYPE=image/jpeg:https://efsinc.org/wp-content/uploads/2021/07/unnamed-2021-07-17T212242.900.jpg
ORGANIZER;CN="Elegba Folklore Society":MAILTO:story1@efsinc.org
END:VEVENT
BEGIN:VEVENT
DTSTART;TZID=America/New_York:20220626T160000
DTEND;TZID=America/New_York:20220626T210000
DTSTAMP:20260425T113515
CREATED:20220608T153213Z
LAST-MODIFIED:20220608T185046Z
UID:3466-1656259200-1656277200@efsinc.org
SUMMARY:Juneteenth 2022\, A Freedom Celebration
DESCRIPTION:Juneteenth\, A Freedom Celebration June 26\, 2022\n\n\n\n\n\n\nSpecial Thanks to: \n\n\n\n  \n\nJuneteenth\, A Freedom Celebration is Virginia’s flagship Juneteenth holiday commemoration. First presented in 1996\, it is reflective of Richmond and Virginia’s particular and poignant stories of enslavement and emancipation\, and it highlights the resolve and resilience of Africa’s children in America. \nRichmond is ground zero with regards to the country’s evolution in its racial mores\, disparities and hierarchies. Juneteenth 2022\, A Freedom Celebration will be a vital part of our community’s reset and healing. \nStay tuned for details as we invite you to this 25th Anniversary event where you can engage in performances\, healing cyphers\, the Get Woke Youth Summit\, the Freedom Market\, historical perspective and ancestral homage at Richmond’s African Burial Ground. \nThe elders say\, “We have to go out the way we came in.”  The pathway is being established. \nStay tuned for details. \nClick here to check out an interview regarding Junteenth\, A Freedom Celebration on Heritage Radio Network’s “Hot Grease” hosted by Nicole Taylor. \n\nJuneteenth 2022 Details \nPurchase Tickets \nCONTACT US
URL:https://efsinc.org/event/juneteenth-2022-a-freedom-celebration/
LOCATION:African Burial Ground\, Broad and 15th Streets\, Richmond\, VA\, 23219\, United States
ATTACH;FMTTYPE=image/jpeg:https://efsinc.org/wp-content/uploads/2021/05/LibationAtDockRS-scaled.jpeg
ORGANIZER;CN="Elegba Folklore Society":MAILTO:story1@efsinc.org
END:VEVENT
END:VCALENDAR