BEGIN:VCALENDAR
VERSION:2.0
PRODID:-//Elegba Folklore Society - ECPv6.15.20//NONSGML v1.0//EN
CALSCALE:GREGORIAN
METHOD:PUBLISH
X-ORIGINAL-URL:https://efsinc.org
X-WR-CALDESC:Events for Elegba Folklore Society
REFRESH-INTERVAL;VALUE=DURATION:PT1H
X-Robots-Tag:noindex
X-PUBLISHED-TTL:PT1H
BEGIN:VTIMEZONE
TZID:America/New_York
BEGIN:DAYLIGHT
TZOFFSETFROM:-0500
TZOFFSETTO:-0400
TZNAME:EDT
DTSTART:20230312T070000
END:DAYLIGHT
BEGIN:STANDARD
TZOFFSETFROM:-0400
TZOFFSETTO:-0500
TZNAME:EST
DTSTART:20231105T060000
END:STANDARD
BEGIN:DAYLIGHT
TZOFFSETFROM:-0500
TZOFFSETTO:-0400
TZNAME:EDT
DTSTART:20240310T070000
END:DAYLIGHT
BEGIN:STANDARD
TZOFFSETFROM:-0400
TZOFFSETTO:-0500
TZNAME:EST
DTSTART:20241103T060000
END:STANDARD
BEGIN:DAYLIGHT
TZOFFSETFROM:-0500
TZOFFSETTO:-0400
TZNAME:EDT
DTSTART:20250309T070000
END:DAYLIGHT
BEGIN:STANDARD
TZOFFSETFROM:-0400
TZOFFSETTO:-0500
TZNAME:EST
DTSTART:20251102T060000
END:STANDARD
END:VTIMEZONE
BEGIN:VEVENT
DTSTART;TZID=America/New_York:20240202T170000
DTEND;TZID=America/New_York:20240229T170000
DTSTAMP:20260424T061331
CREATED:20240123T220552Z
LAST-MODIFIED:20240123T234912Z
UID:3975-1706893200-1709226000@efsinc.org
SUMMARY:Before There Was History\, There Was Black History:    The Kemet Collection
DESCRIPTION:The public is invited to visit Ẹlẹgba Folklore Society’s Cultural Center\, 101 E Broad St in Richmond\, VA\, to explore the origins of civilization. Artifacts\, photographs and material culture from Egypt\, the north eastern African country that was known in antiquity as Kemet\, will be on view beginning Friday\, February 2 with an opening reception from 5p – 9p. \nBefore There Was Any History\, There Was Black History :||: The Kemetic Collection will be displayed as an infusion of expressive art into Ẹlẹgba Folklore Society’s permanent collection\, ARTiFACTS\, through February 29. \nFrom architecture and engineering marvels to mathematics\, from spirituality to its artistic expressions\, from Kings and Queens of an ancient past to artifacts\, decor\, adornment and fashion\, visitors can learn the influences of Kemet (a.k.a. Egypt) on the shaping of the world. \nLocated in the downtown arts district\, Ẹlẹgba Folklore Society’s Cultural Center’s visitors are invited to experience\, browse and buy.
URL:https://efsinc.org/event/before-there-was-history-there-was-black-history-the-kemetic-collection/
LOCATION:Elegba Folklore Society’s Cultural Center\, 101 E Broad St\, Richmond\, VA\, 23219\, United States
ATTACH;FMTTYPE=image/jpeg:https://efsinc.org/wp-content/uploads/2024/01/image0-6.jpeg
ORGANIZER;CN="Elegba Folklore Society":MAILTO:story1@efsinc.org
END:VEVENT
BEGIN:VEVENT
DTSTART;TZID=America/New_York:20240205T180000
DTEND;TZID=America/New_York:20240205T200000
DTSTAMP:20260424T061331
CREATED:20240130T220005Z
LAST-MODIFIED:20240130T235156Z
UID:3998-1707156000-1707163200@efsinc.org
SUMMARY:The Talking Gourd:  Fairfield Library
DESCRIPTION:Join Omilade Janine Bell of the Elegba Folklore Society for The Talking Gourd\nBe engaged by images\, oral histories\, music and ceremony to interactively learn about Mother Africa’s global contributions and influence. Feel culturally enriched and joyful. Feel new connections to the shaping of the world. \nCatch the Buzz — \n“I found it interesting that many styles of architecture\, medicine and other sciences\, economics\, art and many other disciplines were originated in Africa.” \n“She was very engaging. I could have sat and listened to her all day.” \nWe’re saving your seat!
URL:https://efsinc.org/event/the-talking-gourd-fairfield-library/
LOCATION:Fairfield Library\, 1401 N Laburnum Ave\, Richmond\, 23223\, United States
ATTACH;FMTTYPE=image/jpeg:https://efsinc.org/wp-content/uploads/2024/01/unnamed-2024-01-30T184636.545.jpg
END:VEVENT
BEGIN:VEVENT
DTSTART;TZID=America/New_York:20240208T180000
DTEND;TZID=America/New_York:20240208T200000
DTSTAMP:20260424T061331
CREATED:20240130T220625Z
LAST-MODIFIED:20240130T235634Z
UID:4001-1707415200-1707422400@efsinc.org
SUMMARY:The Talking Gourd:  Glen Allen Library
DESCRIPTION:Join Omilade Janine Bell of the Elegba Folklore Society for The Talking Gourd\nBe engaged by images\, oral histories\, music and ceremony to interactively learn about Mother Africa’s global contributions and influence. Feel culturally enriched and joyful. Feel new connections to the shaping of the world. \nCatch the Buzz — \n“I found it interesting that many styles of architecture\, medicine and other sciences\, economics\, art and many other disciplines were originated in Africa.” \n“She was very engaging. I could have sat and listened to her all day.” \nWe’re saving your seat!
URL:https://efsinc.org/event/the-talking-gourd-glen-allen-library/
LOCATION:Glen Allen Library\, 10501 Staples Mill Rd\, Glen Allen\, VA\, 23060\, United States
ATTACH;FMTTYPE=image/jpeg:https://efsinc.org/wp-content/uploads/2024/01/unnamed-2024-01-30T184624.972-scaled.jpg
ORGANIZER;CN="Elegba Folklore Society":MAILTO:story1@efsinc.org
END:VEVENT
BEGIN:VEVENT
DTSTART;TZID=America/New_York:20240217T150000
DTEND;TZID=America/New_York:20240217T170000
DTSTAMP:20260424T061331
CREATED:20240124T005159Z
LAST-MODIFIED:20240124T005159Z
UID:3981-1708182000-1708189200@efsinc.org
SUMMARY:Why Kemet Matters: The Reclamation of African Culture With Anthony T. Browder (3rd Saturday Documentaries)
DESCRIPTION:. \nAnthony T. Browder is an author\, publisher\, cultural historian\, artist\, and an educational consultant. He is a graduate of Howard University’s College of Fine Arts and has lectured extensively throughout the United States\, Africa\, Caribbean\, Mexico\, Japan and Europe\, on issues related to African and African American History and Culture. \nHe has traveled to Egypt 54 times since 1980 and is currently director of the ASA Restoration Project\, which is funding the excavation and restoration of the 25thdynasty tomb of Karakhamun in Luxor\, Egypt. \nAmong Browder’s books are Nile Valley Contributions to Civilization and the soon to be released Why Kemet Matters. Both are available at the Ẹlẹgba Folklore Society.
URL:https://efsinc.org/event/why-kemet-matters-the-reclamation-of-african-culture-with-anthony-t-browder-3rd-saturday-documentaries/
LOCATION:Elegba Folklore Society’s Cultural Center\, 101 E Broad St\, Richmond\, VA\, 23219\, United States
ATTACH;FMTTYPE=image/png:https://efsinc.org/wp-content/uploads/2024/01/IMG_9778.png
END:VEVENT
END:VCALENDAR