BEGIN:VCALENDAR
VERSION:2.0
PRODID:-//Elegba Folklore Society - ECPv6.15.20//NONSGML v1.0//EN
CALSCALE:GREGORIAN
METHOD:PUBLISH
X-WR-CALNAME:Elegba Folklore Society
X-ORIGINAL-URL:https://efsinc.org
X-WR-CALDESC:Events for Elegba Folklore Society
REFRESH-INTERVAL;VALUE=DURATION:PT1H
X-Robots-Tag:noindex
X-PUBLISHED-TTL:PT1H
BEGIN:VTIMEZONE
TZID:America/New_York
BEGIN:DAYLIGHT
TZOFFSETFROM:-0500
TZOFFSETTO:-0400
TZNAME:EDT
DTSTART:20230312T070000
END:DAYLIGHT
BEGIN:STANDARD
TZOFFSETFROM:-0400
TZOFFSETTO:-0500
TZNAME:EST
DTSTART:20231105T060000
END:STANDARD
BEGIN:DAYLIGHT
TZOFFSETFROM:-0500
TZOFFSETTO:-0400
TZNAME:EDT
DTSTART:20240310T070000
END:DAYLIGHT
BEGIN:STANDARD
TZOFFSETFROM:-0400
TZOFFSETTO:-0500
TZNAME:EST
DTSTART:20241103T060000
END:STANDARD
BEGIN:DAYLIGHT
TZOFFSETFROM:-0500
TZOFFSETTO:-0400
TZNAME:EDT
DTSTART:20250309T070000
END:DAYLIGHT
BEGIN:STANDARD
TZOFFSETFROM:-0400
TZOFFSETTO:-0500
TZNAME:EST
DTSTART:20251102T060000
END:STANDARD
END:VTIMEZONE
BEGIN:VEVENT
DTSTART;TZID=America/New_York:20240413T120000
DTEND;TZID=America/New_York:20241109T160000
DTSTAMP:20260423T150404
CREATED:20240408T163907Z
LAST-MODIFIED:20240409T225234Z
UID:4023-1713009600-1731168000@efsinc.org
SUMMARY:Elegba Folklore Society Cultural Tours
DESCRIPTION:In the Beginning…Virginia\, Along the Trail of Enslaved Africans \n\nEvolutionary\, experiential and visceral along the Trail of Enslaved Africans\, attendees are invited to immerse themselves in past occurrences that impact our perspectives today.  From the African arrival point at river’s edge to Shockoe Bottom and the sites of holding pens\, jails\, blocks and African burial ground\, interpreters will interweave the narratives of enslaved Africans with the historical record.  From your bus and along the walk\, participants will have the chance to ponder the impact of enslavement on the enslaved as shared in their own words and from their own view. \nContextually\, this interactive experience begins at Ẹlẹgba Folklore Society’s Cultural Center\, a space that emphasizes the authenticity of continental and Diasporic Africa through material culture. \nPlease encourage participants to wear comfortable shoes and dress. Bottled water is also suggested.  The sites on the trail occur in a wooded area along the river as well as in urban city settings.  There will be some walking.   \n\nIn the Footsteps of Maggie Walker\nẸlẹgba Folklore Society creates and guides this cultural history tour as a contextual biography of Jackson Ward luminary\, Maggie Lena Walker. Evolutionary from her birthplace in Church Hill to her elevation in Historic Jackson Ward\, attendees have the chance to ponder black excellence and community building in early 20th century Richmond in light of its significance today.
URL:https://efsinc.org/event/elegba-folklore-society-cultural-tours/
LOCATION:Elegba Folklore Society’s Cultural Center\, 101 E Broad St\, Richmond\, VA\, 23219\, United States
ORGANIZER;CN="Elegba Folklore Society":MAILTO:story1@efsinc.org
END:VEVENT
BEGIN:VEVENT
DTSTART;TZID=America/New_York:20240817T160000
DTEND;TZID=America/New_York:20240817T230000
DTSTAMP:20260423T150404
CREATED:20240710T231357Z
LAST-MODIFIED:20240806T215644Z
UID:4141-1723910400-1723935600@efsinc.org
SUMMARY:33rd Down Home Family Reunion\, A Celebration of African American Folklife
DESCRIPTION:33rd Down Home Family Reunion\, A Celebration of African American Folklife  –  August 17\, 2024 – Details Below\n\n\n\n\n\n\n\n\n\n\n\n\n\n\n\n\n\n\n\n\n\n\n\nDown Home Family Reunion\, A Celebration of African American Folklife is a downtown weekend festival that celebrates African American folklife with world music and dance\, the Heritage Market\, special children’s events\, interactive site demonstrations and delicious down home food. It is designed to show aspects of West African cultural traditions that are African American and that have been absorbed by the American South.  This is one of the Society’s original programs created in 1990. \n\n\n\n33rd Annual Down Home Family Reunion Details \n\n\n\n2024 Merchandise Vendor Application \n\n\n\n2024 Food Vendor Application \n\n\n\nTalented Youth Inquiry \n\n\n\n33RD DOWN HOME FAMILY REUNION SEEKS TO PRESENT TALENTED YOUTH The festival’s Annie Tyler New School Pavilion is a popular haven for our children. Rev. Tyler loved children and worked lovingly with Elegba Folklore Society to create quality cultural experiences for them until her death. May the good she did last forever. Cultural craft making teaches lessons\, games ensure fun and the stage showcases talented youth. Please contact us if you are interested in arranging a performance! \n\n\n\nShare Your Community Service \n\n\n\nSHARE YOUR COMMUNITY SERVICE AT 33RD DOWN HOME FAMILY REUNION If your community-based organization provides a community service you want people to know about\, you may want to tell them from a table in the festival’s Waverly Crawley Community Row. Waverly Crawley was a fixture in Richmond’s Historic Jackson Ward\, the festival’s location. He constantly encouraged people to get involved in the community to make it better. He wanted people to know that they could make a difference. Please contact us if you are interested in a table. May the good he did last forever. \n\n\n\nSmall Business Exhibitors \n\n\n\nSmall Business Owners! You are invited to the 33rd Down Home Family Reunion! This Celebration of African American Folklife will happen on Saturday\, August 17\, 2024\, 4p – 11p in Richmond\, Virginia! \n\n\n\nContact Us to Join Us in the SmartMart \n\n\n\n• Display and tell your story \n\n\n\n• Interact with and distribute materials to festival attendees \n\n\n\n• Be highlighted in one prize drawing from the Main Stage! \n\n\n\nHow You Benefit Fast-track the promotions of your products/services to Richmonders and visitors by distributing product samples and prize drawings. Reinforce your marketing and public relations campaigns by distributing your flyers\, discount coupons\, business cards\, surveys and other promotional materials. \n\n\n\nEnhance your product or service image in the Richmond business picture. Be highlighted among your peers and in the community in our covered SmartMart business tent. One table\, two chairs and signage will be provided. Demonstrate your commitment to civic/social vitality. Be highlighted in one prize drawing from the Main Stage. This festival connects aspects of West African traditions with those of African Americans through the ambience of a family gathering. The festival’s location is Abner Clay Park\, located downtown in Historic Jackson Ward. \n\n\n\nWorld music and dance headline the Down Home Family Reunion along with site demonstrations and children’s programs. This event couples history with its contemporary significance. With an expected attendance of 13\,000 the festival includes a SmartMart with you in mind.  Please contact us if you are interested. \n\n\n\nParking \n\n\n\n\n\n\n\n \n\n\n\nCONTACT US
URL:https://efsinc.org/event/33rd-down-home-family-reunion-a-celebration-of-african-american-folklife/
LOCATION:Abner Clay Park\, Brook Road and West Clay Street\, Richmond\, 23219\, United States
ORGANIZER;CN="Elegba Folklore Society":MAILTO:story1@efsinc.org
END:VEVENT
END:VCALENDAR