BEGIN:VCALENDAR
VERSION:2.0
PRODID:-//Elegba Folklore Society - ECPv6.15.20//NONSGML v1.0//EN
CALSCALE:GREGORIAN
METHOD:PUBLISH
X-ORIGINAL-URL:https://efsinc.org
X-WR-CALDESC:Events for Elegba Folklore Society
REFRESH-INTERVAL;VALUE=DURATION:PT1H
X-Robots-Tag:noindex
X-PUBLISHED-TTL:PT1H
BEGIN:VTIMEZONE
TZID:America/New_York
BEGIN:DAYLIGHT
TZOFFSETFROM:-0500
TZOFFSETTO:-0400
TZNAME:EDT
DTSTART:20230312T070000
END:DAYLIGHT
BEGIN:STANDARD
TZOFFSETFROM:-0400
TZOFFSETTO:-0500
TZNAME:EST
DTSTART:20231105T060000
END:STANDARD
BEGIN:DAYLIGHT
TZOFFSETFROM:-0500
TZOFFSETTO:-0400
TZNAME:EDT
DTSTART:20240310T070000
END:DAYLIGHT
BEGIN:STANDARD
TZOFFSETFROM:-0400
TZOFFSETTO:-0500
TZNAME:EST
DTSTART:20241103T060000
END:STANDARD
BEGIN:DAYLIGHT
TZOFFSETFROM:-0500
TZOFFSETTO:-0400
TZNAME:EDT
DTSTART:20250309T070000
END:DAYLIGHT
BEGIN:STANDARD
TZOFFSETFROM:-0400
TZOFFSETTO:-0500
TZNAME:EST
DTSTART:20251102T060000
END:STANDARD
END:VTIMEZONE
BEGIN:VEVENT
DTSTART;TZID=America/New_York:20241228T130000
DTEND;TZID=America/New_York:20241228T190000
DTSTAMP:20260423T092105
CREATED:20241211T010634Z
LAST-MODIFIED:20241211T010840Z
UID:4268-1735390800-1735412400@efsinc.org
SUMMARY:2024 Capital City Kwanzaa Festival 
DESCRIPTION:Capital City Kwanzaa Festival   December 28\, 2024 \n\n\n\n\n\n\n\n\n\n\n\n\n\n\n\n\n\n\n\n \n\n\n\n\n\n\n\n\n\n\n\n\n  \n\n        \n                  \n          \n    \n    \n  \n  \n\n        \n                  \n          \n    \n    \n  \n  \n\n        \n                  \n          \n    \n    \n  \n  \n\n        \n                  \n          \n    \n    \n  \n  \n\n        \n                  \n          \n    \n    \n  \n  \n\n        \n                  \n          \n    \n    \n  \n\n\n\n \n\n\n\n\n\n\n\nCapital City Kwanzaa Festival presents performances\, workshops\, children’s activities\, The African Market\, food and more observe the year’s-end Kwanzaa holiday\, a cultural affirmation of values\, thanksgiving and growth.  This event is the largest of its kind in Virginia\, and therefore\, one of the largest on the East Coast. Elegba Folklore Society’s Artistic Director first produced a Kwanzaa program in Richmond in 1986 and the Society first presented its festival in 1990.  (Annually during the December Kwanzaa Holiday) \n\n\n\n \n\n\n\n2024 Capital City Kwanzaa Festival Details \n\n\n\n2024 Capital City Kwanzaa Festival Vending Application \n\n\n\n2024 Capital City Kwanzaa Festival Volunteer Signup \n\n\n\n2024 Capital City Kwanzaa Festival Parking \n\n\n\n2024 Capital City Kwanzaa Festival Covid Protocols \n\n\n\nCONTACT US
URL:https://efsinc.org/event/2024-capital-city-kwanzaa-festival/
LOCATION:Greater Richmond Convention Center – Exhibit Hall B\, 5th & Marshall Streets\, Richmond\, VA\, 23219\, United States
ORGANIZER;CN="Elegba Folklore Society":MAILTO:story1@efsinc.org
END:VEVENT
END:VCALENDAR