BEGIN:VCALENDAR
VERSION:2.0
PRODID:-//Elegba Folklore Society - ECPv6.15.20//NONSGML v1.0//EN
CALSCALE:GREGORIAN
METHOD:PUBLISH
X-ORIGINAL-URL:https://efsinc.org
X-WR-CALDESC:Events for Elegba Folklore Society
REFRESH-INTERVAL;VALUE=DURATION:PT1H
X-Robots-Tag:noindex
X-PUBLISHED-TTL:PT1H
BEGIN:VTIMEZONE
TZID:America/New_York
BEGIN:DAYLIGHT
TZOFFSETFROM:-0500
TZOFFSETTO:-0400
TZNAME:EDT
DTSTART:20240310T070000
END:DAYLIGHT
BEGIN:STANDARD
TZOFFSETFROM:-0400
TZOFFSETTO:-0500
TZNAME:EST
DTSTART:20241103T060000
END:STANDARD
BEGIN:DAYLIGHT
TZOFFSETFROM:-0500
TZOFFSETTO:-0400
TZNAME:EDT
DTSTART:20250309T070000
END:DAYLIGHT
BEGIN:STANDARD
TZOFFSETFROM:-0400
TZOFFSETTO:-0500
TZNAME:EST
DTSTART:20251102T060000
END:STANDARD
BEGIN:DAYLIGHT
TZOFFSETFROM:-0500
TZOFFSETTO:-0400
TZNAME:EDT
DTSTART:20260308T070000
END:DAYLIGHT
BEGIN:STANDARD
TZOFFSETFROM:-0400
TZOFFSETTO:-0500
TZNAME:EST
DTSTART:20261101T060000
END:STANDARD
END:VTIMEZONE
BEGIN:VEVENT
DTSTART;TZID=America/New_York:20250510T150000
DTEND;TZID=America/New_York:20250510T190000
DTSTAMP:20260423T020058
CREATED:20250422T094547Z
LAST-MODIFIED:20250422T222533Z
UID:4366-1746889200-1746903600@efsinc.org
SUMMARY:The Black Book Expo\, A Conscious Literary Festival - Survival Strategies
DESCRIPTION:THE BLACK BOOK EXPO\, A CONSCIOUS LITERARY FESTIVALSaturday\, May 10\, 3p – 7p\, and Sunday\, May 11\, 3p – 7p\n\n\n\n\n\n\n\nRichmond\, VA •  Elegba Folklore Society will present the 2025 Black Book Expo ⦿ A Conscious Literary Festival\, May 10 – 11\, 2025 at the Pine Camp Arts Center\, 4901 Old Brook Road in Richmond\, VA  23227.  From 3p – 7p on both days\,the mid-Atlantic regional public is invited to browse and buy books\, experience live entertainment and meet both celebrity and independent authors.  While this is a free family event\, donations are cheerfully accepted.  The suggested amount is $10. \n\n\n\nThe Black Book Expo\, A Conscious Literary Festival will showcase a vast display of literature featuring topics including black history\, social justice\, science\, health\, African Diasporic culture\, African spirituality\, personal development\, novels and children’s books. \n\n\n\n\n\n\n\nSaturday’s theme\, Survival Strategies\, will feature a talk and chat with Anthony T. Browder from his book\, Survival Strategies for Africans in America\, 13 Steps to Freedom.  Mr. Browder has authored or co-authored 15 publications which are currently used in classrooms around the world. Also a publisher\, cultural historian\, artist and an educational consultant\, he has lectured extensively throughout the United States\, Africa\, Caribbean\, Mexico\, Japan and Europe\, on issues related to African and African American History and Culture.   \n\n\n\n\n\n\n\nRecognized by RVA Dance Awards for Best African Choreography\, Elegba Folklore Society’s African dancers and drummers will also appear.  According to the Virginia Museum of Fine Arts\, Elegba Folklore Society consistently brings a great level of education\, professionalism\, artistry\, expertise and thoughtfulness into each one of their performances and presentations.  Elegba Folklore Society’s performances continually promote a dedication to education\, artistic expression\, incredible skillset and technique\, while also helping to preserve cultural and artistic traditions.  \n\n\n\n\n\n\n\nOn Sunday\, the Black Book Expo\, A Conscious Literary Festival turns to Honoring Our Mothers with a special array of books for women and musical love presented by songstress\, Desirée Roots. Ms. Roots is a celebrated musical and theatre icon.  With over 35 years of experience\, she has showcased her triple-threat talent in the gospel\, jazz and theatre regionally and internationally.  Along the East Coast\, Ms. Roots has performed with orchestras\, jazz ensembles\, and her own groups.  As a Grammy-nominated recording artist\, she has also produced shows like Ella at 100\, celebrating Ella Fitzgerald’s centenary. In 2014\, she received the Theresa Pollak Award for Vocal Excellence. \n\n\n\n\n\n\n\nChildren are invited to Kemi Abifarin’s\, Calabash Experience.  Through her story telling\, Kemi Abifarin shares the greatness she sees in African American culture and community and uses that energy to encourage\, inspire and invoke positivism on all levels.  The tools she chooses are in words\, stories\, families and in personal medicines.  Ms. Abifarin is listed on the Virginia Commission for the Arts and Greater Richmond Wolf Trap Teaching Artist Rosters.  Also\, an artist educator with the Richmond Performance Alliance\,  she was recognized as this group’s 2023 Support Artist of the Year. \n\n\n\nIndependent Authors will make presentations and sign their books.  Live streaming will occur from the event\, as well\, via the Society’s Facebook page.  Books will also be available on the Society’s website.  If you are an independent author and would like to participate\, please contact imani@efsinc.org. \n\n\n\nThe public may follow Elegba Folklore Society on Facebook and Instagram for updates.  They may also contact the Society at 804.644.3900\, story1@efsinc.org and find more details at www.efsinc.org. \n\n\n\nThis program is made possible\, in part\, by Dominion Energy\, the City of Richmond and the Arts & Cultural Funding Consortium. \n\n\n\n 
URL:https://efsinc.org/event/the-black-book-expo-a-conscious-literary-festival-survival-strategies/
LOCATION:Pine Camp Arts Center\, 4901 Old Brook Rd\, Richmond\, VA\, 23227\, United States
ATTACH;FMTTYPE=image/png:https://efsinc.org/wp-content/uploads/2025/04/2025-BBE-Graphics.png
ORGANIZER;CN="Elegba Folklore Society":MAILTO:story1@efsinc.org
END:VEVENT
BEGIN:VEVENT
DTSTART;TZID=America/New_York:20250511T150000
DTEND;TZID=America/New_York:20250511T190000
DTSTAMP:20260423T020058
CREATED:20250422T094827Z
LAST-MODIFIED:20250422T222718Z
UID:4368-1746975600-1746990000@efsinc.org
SUMMARY:The Black Book Expo\, A Conscious Literary Festival - Honoring Our Mothers
DESCRIPTION:THE BLACK BOOK EXPO\, A CONSCIOUS LITERARY FESTIVALSaturday\, May 10\, 3p – 7p\, and Sunday\, May 11\, 3p – 7p\n\n\n\n\n\n\n\nRichmond\, VA •  Elegba Folklore Society will present the 2025 Black Book Expo ⦿ A Conscious Literary Festival\, May 10 – 11\, 2025 at the Pine Camp Arts Center\, 4901 Old Brook Road in Richmond\, VA  23227.  From 3p – 7p on both days\,the mid-Atlantic regional public is invited to browse and buy books\, experience live entertainment and meet both celebrity and independent authors.  While this is a free family event\, donations are cheerfully accepted.  The suggested amount is $10. \n\n\n\nThe Black Book Expo\, A Conscious Literary Festival will showcase a vast display of literature featuring topics including black history\, social justice\, science\, health\, African Diasporic culture\, African spirituality\, personal development\, novels and children’s books. \n\n\n\n\n\n\n\nSaturday’s theme\, Survival Strategies\, will feature a talk and chat with Anthony T. Browder from his book\, Survival Strategies for Africans in America\, 13 Steps to Freedom.  Mr. Browder has authored or co-authored 15 publications which are currently used in classrooms around the world. Also a publisher\, cultural historian\, artist and an educational consultant\, he has lectured extensively throughout the United States\, Africa\, Caribbean\, Mexico\, Japan and Europe\, on issues related to African and African American History and Culture.   \n\n\n\n\n\n\n\nRecognized by RVA Dance Awards for Best African Choreography\, Elegba Folklore Society’s African dancers and drummers will also appear.  According to the Virginia Museum of Fine Arts\, Elegba Folklore Society consistently brings a great level of education\, professionalism\, artistry\, expertise and thoughtfulness into each one of their performances and presentations.  Elegba Folklore Society’s performances continually promote a dedication to education\, artistic expression\, incredible skillset and technique\, while also helping to preserve cultural and artistic traditions.  \n\n\n\n\n\n\n\nOn Sunday\, the Black Book Expo\, A Conscious Literary Festival turns to Honoring Our Mothers with a special array of books for women and musical love presented by songstress\, Desirée Roots. Ms. Roots is a celebrated musical and theatre icon.  With over 35 years of experience\, she has showcased her triple-threat talent in the gospel\, jazz and theatre regionally and internationally.  Along the East Coast\, Ms. Roots has performed with orchestras\, jazz ensembles\, and her own groups.  As a Grammy-nominated recording artist\, she has also produced shows like Ella at 100\, celebrating Ella Fitzgerald’s centenary. In 2014\, she received the Theresa Pollak Award for Vocal Excellence. \n\n\n\n\n\n\n\nChildren are invited to Kemi Abifarin’s\, Calabash Experience.  Through her story telling\, Kemi Abifarin shares the greatness she sees in African American culture and community and uses that energy to encourage\, inspire and invoke positivism on all levels.  The tools she chooses are in words\, stories\, families and in personal medicines.  Ms. Abifarin is listed on the Virginia Commission for the Arts and Greater Richmond Wolf Trap Teaching Artist Rosters.  Also\, an artist educator with the Richmond Performance Alliance\,  she was recognized as this group’s 2023 Support Artist of the Year. \n\n\n\nIndependent Authors will make presentations and sign their books.  Live streaming will occur from the event\, as well\, via the Society’s Facebook page.  Books will also be available on the Society’s website.  If you are an independent author and would like to participate\, please contact imani@efsinc.org. \n\n\n\nThe public may follow Elegba Folklore Society on Facebook and Instagram for updates.  They may also contact the Society at 804.644.3900\, story1@efsinc.org and find more details at www.efsinc.org. \n\n\n\nThis program is made possible\, in part\, by Dominion Energy\, the City of Richmond and the Arts & Cultural Funding Consortium. \n\n\n\n 
URL:https://efsinc.org/event/the-black-book-expo-a-conscious-literary-festival-honoring-our-mothers/
LOCATION:Pine Camp Arts Center\, 4901 Old Brook Rd\, Richmond\, VA\, 23227\, United States
ATTACH;FMTTYPE=image/png:https://efsinc.org/wp-content/uploads/2025/04/2025-BBE-Graphics.png
ORGANIZER;CN="Elegba Folklore Society":MAILTO:story1@efsinc.org
END:VEVENT
END:VCALENDAR