BEGIN:VCALENDAR
VERSION:2.0
PRODID:-//Elegba Folklore Society - ECPv6.15.20//NONSGML v1.0//EN
CALSCALE:GREGORIAN
METHOD:PUBLISH
X-ORIGINAL-URL:https://efsinc.org
X-WR-CALDESC:Events for Elegba Folklore Society
REFRESH-INTERVAL;VALUE=DURATION:PT1H
X-Robots-Tag:noindex
X-PUBLISHED-TTL:PT1H
BEGIN:VTIMEZONE
TZID:America/New_York
BEGIN:DAYLIGHT
TZOFFSETFROM:-0500
TZOFFSETTO:-0400
TZNAME:EDT
DTSTART:20180311T070000
END:DAYLIGHT
BEGIN:STANDARD
TZOFFSETFROM:-0400
TZOFFSETTO:-0500
TZNAME:EST
DTSTART:20181104T060000
END:STANDARD
BEGIN:DAYLIGHT
TZOFFSETFROM:-0500
TZOFFSETTO:-0400
TZNAME:EDT
DTSTART:20190310T070000
END:DAYLIGHT
BEGIN:STANDARD
TZOFFSETFROM:-0400
TZOFFSETTO:-0500
TZNAME:EST
DTSTART:20191103T060000
END:STANDARD
BEGIN:DAYLIGHT
TZOFFSETFROM:-0500
TZOFFSETTO:-0400
TZNAME:EDT
DTSTART:20200308T070000
END:DAYLIGHT
BEGIN:STANDARD
TZOFFSETFROM:-0400
TZOFFSETTO:-0500
TZNAME:EST
DTSTART:20201101T060000
END:STANDARD
END:VTIMEZONE
BEGIN:VEVENT
DTSTART;TZID=America/New_York:20191228T130000
DTEND;TZID=America/New_York:20191228T200000
DTSTAMP:20260424T232324
CREATED:20191214T172306Z
LAST-MODIFIED:20191216T235143Z
UID:2700-1577538000-1577563200@efsinc.org
SUMMARY:Capital City Kwanzaa Festival   December 28\, 2019
DESCRIPTION:Capital City Kwanzaa Festival   December 28\, 2019 \n \n  \n  \n  \n\n  \n\n \n\n\n\n\n\n\n\n\n\n\n  \n\n        \n                  \n          \n    \n    \n  \n  \n\n        \n                  \n          \n    \n    \n  \n  \n\n        \n                  \n          \n    \n    \n  \n  \n\n        \n                  \n          \n    \n    \n  \n  \n\n        \n                  \n          \n    \n    \n  \n  \n\n        \n                  \n          \n    \n    \n  \n\n\n\n \n\nCapital City Kwanzaa Festival presents performances\, workshops\, children’s activities\, The African Market\, food and more observe the year’s-end Kwanzaa holiday\, a cultural affirmation of values\, thanksgiving and growth.  This event is the largest of its kind in Virginia\, and therefore\, one of the largest on the East Coast. Elegba Folklore Society’s Artistic Director first produced a Kwanzaa program in Richmond in 1986 and the Society first presented its festival in 1990.  (Annually during the December Kwanzaa Holiday) \n2019 Capital City Kwanzaa Festival Details \nInterested in Vending for 2019 Click Here \n\nCONTACT US
URL:https://efsinc.org/event/capital-city-kwanzaa-festival-december-28-2019/
LOCATION:Martin Luther King\, Jr Middle School\, 1000 Mosby St\,  Richmond\, VA\, 23223
CATEGORIES:Festivals
ATTACH;FMTTYPE=image/jpeg:https://efsinc.org/wp-content/uploads/2019/12/unnamed-2019-12-14T121211.755.jpg
END:VEVENT
END:VCALENDAR